BEGIN:VCALENDAR
VERSION:2.0
PRODID:-//KUD Pirniče - Ljubiteljsko kulturno društvo - ECPv6.15.14//NONSGML v1.0//EN
CALSCALE:GREGORIAN
METHOD:PUBLISH
X-WR-CALNAME:KUD Pirniče - Ljubiteljsko kulturno društvo
X-ORIGINAL-URL:https://kud-pirnice.si
X-WR-CALDESC:Dogodki za KUD Pirniče - Ljubiteljsko kulturno društvo
REFRESH-INTERVAL;VALUE=DURATION:PT1H
X-Robots-Tag:noindex
X-PUBLISHED-TTL:PT1H
BEGIN:VTIMEZONE
TZID:Europe/Ljubljana
BEGIN:DAYLIGHT
TZOFFSETFROM:+0100
TZOFFSETTO:+0200
TZNAME:CEST
DTSTART:20240331T010000
END:DAYLIGHT
BEGIN:STANDARD
TZOFFSETFROM:+0200
TZOFFSETTO:+0100
TZNAME:CET
DTSTART:20241027T010000
END:STANDARD
BEGIN:DAYLIGHT
TZOFFSETFROM:+0100
TZOFFSETTO:+0200
TZNAME:CEST
DTSTART:20250330T010000
END:DAYLIGHT
BEGIN:STANDARD
TZOFFSETFROM:+0200
TZOFFSETTO:+0100
TZNAME:CET
DTSTART:20251026T010000
END:STANDARD
BEGIN:DAYLIGHT
TZOFFSETFROM:+0100
TZOFFSETTO:+0200
TZNAME:CEST
DTSTART:20260329T010000
END:DAYLIGHT
BEGIN:STANDARD
TZOFFSETFROM:+0200
TZOFFSETTO:+0100
TZNAME:CET
DTSTART:20261025T010000
END:STANDARD
BEGIN:DAYLIGHT
TZOFFSETFROM:+0100
TZOFFSETTO:+0200
TZNAME:CEST
DTSTART:20270328T010000
END:DAYLIGHT
BEGIN:STANDARD
TZOFFSETFROM:+0200
TZOFFSETTO:+0100
TZNAME:CET
DTSTART:20271031T010000
END:STANDARD
BEGIN:DAYLIGHT
TZOFFSETFROM:+0100
TZOFFSETTO:+0200
TZNAME:CEST
DTSTART:20280326T010000
END:DAYLIGHT
BEGIN:STANDARD
TZOFFSETFROM:+0200
TZOFFSETTO:+0100
TZNAME:CET
DTSTART:20281029T010000
END:STANDARD
END:VTIMEZONE
BEGIN:VEVENT
DTSTART;VALUE=DATE:20250815
DTEND;VALUE=DATE:20270101
DTSTAMP:20260420T224909
CREATED:20250127T092858Z
LAST-MODIFIED:20251030T142607Z
UID:2100-1755216000-1798761599@kud-pirnice.si
SUMMARY:ZNAMENJA DOMAČEGA KRAJA - SPOZNAJ\, VARUJ\, OHRANI
DESCRIPTION:  \nZNAMENJA DOMAČEGA KRAJA – SPOZNAJ\, VARUJ\, OHRANI\nPodobe kulturne dediščine našega kraja \nAvtor: Iva Grabnar \nFotografska razstava je na ogled od 15. avgusta 2025 dalje v cerkvi Marije Vnebovzete v Zgornjih Pirničah. \n  \nKulturna dediščina je zapis časa\, življenja\, izkušenj\, znanja in spretnosti. Znamenja so pomemben del kulturne dediščine slovenskega naroda. Izredno bogastvo\, ki se je ohranilo na tako majhnem koščku zemlje\, ki je že stoletja krščansko. \nSpremljajo nas na vsakodnevnih in Božjih poteh in nas spominjajo na posebne dogodke. Izražajo zahvalo za uslišane prošnje v stiski\, da bi nas ne zadelo gorje. So spomin na izpolnitev zaobljube ali opomin na težke življenjske preizkušnje\, bolezni in smrti\, vojne in druge tragedije v življenju. Popolno vdanost v usodo in v Božjo voljo je zamenjalo upanje\, da se stvari z Božjo pomočjo le da obrniti v dobro in se obvarovati zlega. \nŽivimo v času\, ko znamenja ob poteh\, po katerih hodimo vsak dan komaj še opazimo. Čemu stojijo na teh mestih? Kdaj so bila postavljena? Kdo jih je postavil in kdo skrbi\, da so se ohranila skozi leta? Na vsa ta vprašanja skušamo najti odgovore. \nPred vami je del zbirke znamenj domačega kraja. Četrta samostojna razstava ljubiteljske fotografinje Ive Grabnar. \n  \nLepo vas pozdravljamo.\nVaš KUD Pirniče \nDelo Foto sekcije KUD Pirniče finančno omogoča Občina Medvode.
URL:https://kud-pirnice.si/dogodek/znamenja-domacega-kraja-spoznaj-varuj-ohrani/
LOCATION:Cerkev Marije Vnebovzete v Zgornjih Pirničah.\, Zgornje Pirniče 74b\, Medvode\, 1215
ATTACH;FMTTYPE=image/jpeg:https://kud-pirnice.si/wp-content/uploads/2025/01/Znamenja-2025_SLIDE-1024c.jpg
ORGANIZER;CN="KUD Pirni%C4%8De":MAILTO:blagajna.kud.pirnice@gmail.com
END:VEVENT
BEGIN:VEVENT
DTSTART;VALUE=DATE:20251210
DTEND;VALUE=DATE:20271219
DTSTAMP:20260420T224909
CREATED:20251208T132804Z
LAST-MODIFIED:20251208T133445Z
UID:2305-1765324800-1829174399@kud-pirnice.si
SUMMARY:ODMEV IN TOPLINA V GLINI
DESCRIPTION:  \nODMEV IN TOPLINA V GLINI\nVabimo na otvoritev razstave unikatnih izdelkov iz gline\, ki jih članice likovne sekcije ustvarjamo poleg slikarske dejavnosti že od leta 2017 \, in razstavljamo na vsaki dve leti.\nVeseli bomo\, če se nam pridružite . \nToplo vabljeni!\nRazstava bo na ogled do 17.decembra 2025
URL:https://kud-pirnice.si/dogodek/znamenja-domacega-kraja-spoznaj-varuj-ohrani-copy/
LOCATION:Dom Kulture Pirniče\, Zgornje Pirniče 6\, Medvode\, 1215
ATTACH;FMTTYPE=image/jpeg:https://kud-pirnice.si/wp-content/uploads/2025/12/glina.jpg
ORGANIZER;CN="KUD Pirni%C4%8De":MAILTO:blagajna.kud.pirnice@gmail.com
END:VEVENT
END:VCALENDAR